BEGIN:VCALENDAR
VERSION:2.0
PRODID:-//Talks.cam//talks.cam.ac.uk//
X-WR-CALNAME:Talks.cam
BEGIN:VEVENT
SUMMARY:Studies of virus diseases of cassava and maize lethal necrosis dis
 ease in Kenya - Dr Paul Kuria\, Kenya Agricultural Research Organisation 
DTSTART:20200214T140000Z
DTEND:20200214T150000Z
UID:TALK139606@talks.cam.ac.uk
CONTACT:23263
DESCRIPTION:Dr Paul Kuria is a research scientist from the Kenya Agricultu
 ral and Livestock Research Organization in Nairobi\, Kenya. His research i
 s focused on understanding transmission\, molecular mechanisms of host res
 istance and interaction of viruses in cassava\, maize and fruit trees. His
  visit is supported by the GCRF-CONNECTED Network https://www.connectedvir
 us.net/\n             \nIf you would like to meet with Dr Kuria please con
 tact John Carr\, Department of Plant Sciences jpc1005@cam.ac.uk  \n
LOCATION:Tom ap Rees\, Department of Plant Sciences
END:VEVENT
END:VCALENDAR
