BEGIN:VCALENDAR
VERSION:2.0
PRODID:-//Talks.cam//talks.cam.ac.uk//
X-WR-CALNAME:Talks.cam
BEGIN:VEVENT
SUMMARY:Mums\, Dads\, Donors and Surrogates - How the law determines paren
 thood - Natalie Gamble\, Associate at Lester Aldridge\, Bournemouth
DTSTART:20081014T120000Z
DTEND:20081014T130000Z
UID:TALK13981@talks.cam.ac.uk
CONTACT:8810
DESCRIPTION:Abstract not available
LOCATION:Room 606\, Centre for Family Research
END:VEVENT
END:VCALENDAR
