BEGIN:VCALENDAR
VERSION:2.0
PRODID:-//Talks.cam//talks.cam.ac.uk//
X-WR-CALNAME:Talks.cam
BEGIN:VEVENT
SUMMARY:Title: The Phaeo of Morphine -  Presenter: Dr Sorayya Alam and Dr 
 Chad Bisamber
DTSTART:20200318T133000Z
DTEND:20200318T140000Z
UID:TALK140170@talks.cam.ac.uk
CONTACT:Vicky Clarke
DESCRIPTION:Specialist Lead: Dr Rosemary Wade \n\nLead Consultant: Dr Yvon
 ne Cartwright\, Dr Ruth Casey & Dr Sarah Galbraith\n\nPresenter: Dr Sorayy
 a Alam and Dr Chad Bisamber\n\nTitle: The Phaeo of Morphine\n\nSpecialty: 
 Palliative Care\n
LOCATION:William Harvey Lecture Theatre
END:VEVENT
END:VCALENDAR
