BEGIN:VCALENDAR
VERSION:2.0
PRODID:-//Talks.cam//talks.cam.ac.uk//
X-WR-CALNAME:Talks.cam
BEGIN:VEVENT
SUMMARY:CSAR online webinar.  From Medicine to Hamburgers.  Cell and tissu
 e culture applied to sustainable production of food meat. - Professor Mark
  Post\, Maastricht University.
DTSTART:20200427T183000Z
DTEND:20200427T200000Z
UID:TALK140302@talks.cam.ac.uk
CONTACT:John Cook
DESCRIPTION:To ensure food security and reduce the environmental burden of
  livestock meat production\, we have developed a meat product from bovine 
 satellite cells and adipose tissue derived stem cells.\n\nFor cultured bee
 f to be successful it has to be scaled to an industrial scale\, with low p
 roduction cost\, delivering a credible copy of meat so that consumers acce
 pt the concept and the product. The challenges are many\, but with more th
 an 40 start-up companies world-wide\, substantial private funding and an e
 stimated 1000 scientists\, cultured meat is increasingly likely to become 
 real. The technical challenges and opportunities will be discussed as well
  as some surprising social implications.\n\nAll CSAR members are welcome.\
 n\n"Add to calendar":https://www.addevent.com/event/?eC4669038\n\n"Find ou
 t more about this event":https://www.csar.org.uk/lectures/lectures-2019-20
 20/tbc-27apr2020/\n\n"Find out more about CSAR membership":http://www.csar
 .org.uk/membership/\n
LOCATION:Location: Your choice. See CSAR website or emails for joining inf
 ormation.
END:VEVENT
END:VCALENDAR
