BEGIN:VCALENDAR
VERSION:2.0
PRODID:-//Talks.cam//talks.cam.ac.uk//
X-WR-CALNAME:Talks.cam
BEGIN:VEVENT
SUMMARY:Title to be confirmed - Sevag Gharibian\, University of Paderborn
DTSTART:20200319T141500Z
DTEND:20200319T151500Z
UID:TALK140572@talks.cam.ac.uk
CONTACT:Johannes Bausch
DESCRIPTION:Abstract not available
LOCATION:MR9\,  Centre for Mathematical Sciences\, Wilberforce Road\, Camb
 ridge
END:VEVENT
END:VCALENDAR
