BEGIN:VCALENDAR
VERSION:2.0
PRODID:-//Talks.cam//talks.cam.ac.uk//
X-WR-CALNAME:Talks.cam
BEGIN:VEVENT
SUMMARY:TBC - Dhavendra Kumar\, Cardiff University. Hosted by Ankur Mutrej
 a.
DTSTART:20200612T120000Z
DTEND:20200612T130000Z
UID:TALK141106@talks.cam.ac.uk
CONTACT:Dr. Maryam Arasteh
DESCRIPTION:Abstract not available
LOCATION:Jeffrey Cheah Biomedical Centre\, Cambridge Biomedical Campus
END:VEVENT
END:VCALENDAR
