BEGIN:VCALENDAR
VERSION:2.0
PRODID:-//Talks.cam//talks.cam.ac.uk//
X-WR-CALNAME:Talks.cam
BEGIN:VEVENT
SUMMARY:Movievilla - Speaker to be confirmed
DTSTART:20200419T100000Z
DTEND:20200419T110000Z
UID:TALK141757@talks.cam.ac.uk
CONTACT:Karishmak TAnna
DESCRIPTION:Movievilla free Download HD Movies site they upload the latest
  movies from different genres like Action\, Adult\, Comedy\, Thriller\, Dr
 ama\, Sci-Fi\, Animation\, and Horror Movies. Movievilla is the most know 
 site where millions of users visit online downloading site movievilla to d
 ownload movies Bollywood Hindi Movies Link: https://www.aperfectreview.com
LOCATION:Venue to be confirmed
END:VEVENT
END:VCALENDAR
