BEGIN:VCALENDAR
VERSION:2.0
PRODID:-//Talks.cam//talks.cam.ac.uk//
X-WR-CALNAME:Talks.cam
BEGIN:VEVENT
SUMMARY:Motorneuron dendritic growth during larval life: regulation throug
 h cell-autonomous and target derived signals - Jan-Felix Evers\, Departmen
 t of Zoology\, Cambridge
DTSTART:20081110T160000Z
DTEND:20081110T164500Z
UID:TALK14212@talks.cam.ac.uk
CONTACT:Naomi Stevens
DESCRIPTION:Abstract not available
LOCATION:Gurdon Institute Tea Room
END:VEVENT
END:VCALENDAR
