BEGIN:VCALENDAR
VERSION:2.0
PRODID:-//Talks.cam//talks.cam.ac.uk//
X-WR-CALNAME:Talks.cam
BEGIN:VEVENT
SUMMARY:A new target of the PAR-1 kinase for microtubule regulation - Isab
 el Torres\, Gurdon Institute\, Cambridge
DTSTART:20081124T160000Z
DTEND:20081124T164500Z
UID:TALK14213@talks.cam.ac.uk
CONTACT:Naomi Stevens
DESCRIPTION:Abstract not available
LOCATION:Gurdon Institute Tea Room
END:VEVENT
END:VCALENDAR
