BEGIN:VCALENDAR
VERSION:2.0
PRODID:-//Talks.cam//talks.cam.ac.uk//
X-WR-CALNAME:Talks.cam
BEGIN:VEVENT
SUMMARY:Controlling the Polo kinase in Drosophila cell cycle and developme
 nt - Vincent Archambault\, Department of Genetics\, Cambridge
DTSTART:20081208T160000Z
DTEND:20081208T164500Z
UID:TALK14214@talks.cam.ac.uk
CONTACT:Naomi Stevens
DESCRIPTION:Abstract not available
LOCATION:Gurdon Institute Tea Room
END:VEVENT
END:VCALENDAR
