BEGIN:VCALENDAR
VERSION:2.0
PRODID:-//Talks.cam//talks.cam.ac.uk//
X-WR-CALNAME:Talks.cam
BEGIN:VEVENT
SUMMARY:Hardware multithreading - Dr Simon Moore
DTSTART:20081008T151500Z
DTEND:20081008T161500Z
UID:TALK14307@talks.cam.ac.uk
CONTACT:Simon Moore
DESCRIPTION:Hardware for a multithreaded multiprocessor will be discussed.
LOCATION:SS03\, Computer Laboratory\, William Gates Building
END:VEVENT
END:VCALENDAR
