BEGIN:VCALENDAR
VERSION:2.0
PRODID:-//Talks.cam//talks.cam.ac.uk//
X-WR-CALNAME:Talks.cam
BEGIN:VEVENT
SUMMARY:What policy makers need to know about COVID-19 protective immunity
 . - Professor Danny Altmann\, Faculty of Medicine\, Department of Immunolo
 gy and Inflammation\, Imperial College Hammersmith Hospital Campus.
DTSTART:20200603T110000Z
DTEND:20200603T120000Z
UID:TALK144046@talks.cam.ac.uk
CONTACT:John Cook
DESCRIPTION:A CSAR Question and Answer session via Zoom.\n\nFor CSAR membe
 rs.  Please join (free of charge at present) in order to receive emails wi
 th the Zoom link.\n\nhttps://www.csar.org.uk/join-us/
LOCATION:Location: Your choice! See email reminders or "Attending Lectures
 " for details of how to join in.
END:VEVENT
END:VCALENDAR
