BEGIN:VCALENDAR
VERSION:2.0
PRODID:-//Talks.cam//talks.cam.ac.uk//
X-WR-CALNAME:Talks.cam
BEGIN:VEVENT
SUMMARY:"Application of Metabolomics to Diabetes\, Obesity and Coronary Ar
 tery Disease" - Dr Jules Griffin: University of Cambridge
DTSTART:20081113T130000Z
DTEND:20081113T140000Z
UID:TALK14639@talks.cam.ac.uk
DESCRIPTION:Abstract not available
LOCATION:Seminar Room 5\, Clinical School\, Cambridge
END:VEVENT
END:VCALENDAR
