BEGIN:VCALENDAR
VERSION:2.0
PRODID:-//Talks.cam//talks.cam.ac.uk//
X-WR-CALNAME:Talks.cam
BEGIN:VEVENT
SUMMARY:Which are the Best Features for Automatic Verb Classification? - A
 ndreas Vlachos (Computer Laboratory)
DTSTART:20081029T130000Z
DTEND:20081029T140000Z
UID:TALK14795@talks.cam.ac.uk
CONTACT:Diarmuid Ó Séaghdha
DESCRIPTION:Andreas will be presenting and discussing the following paper 
 from ACL 2008:\n\nLi\, Jianguo & Chris Brew. "Which are the Best Features 
 for Automatic Verb Classification?":http://www.ling.ohio-state.edu/~jiangu
 o/papers/jl-cb.pdf . Proceedings of ACL 2008.\n
LOCATION:GS15\, Computer Laboratory
END:VEVENT
END:VCALENDAR
