BEGIN:VCALENDAR
VERSION:2.0
PRODID:-//Talks.cam//talks.cam.ac.uk//
X-WR-CALNAME:Talks.cam
BEGIN:VEVENT
SUMMARY:From Lasers to Bose-Einstein condensates - Dr Jonathan Keeling (Un
 iversity of Cambridge)
DTSTART:20081112T210000Z
DTEND:20081112T220000Z
UID:TALK14836@talks.cam.ac.uk
CONTACT:Mr. Andrew Norman
DESCRIPTION:How superfluids\, superconductors\, cold atoms and lasers fit 
 together.\n\nMembers may join speaker & committee for formal hall at Pembr
 oke before the talk.
LOCATION:New Cellars\, Pembroke College
END:VEVENT
END:VCALENDAR
