BEGIN:VCALENDAR
VERSION:2.0
PRODID:-//Talks.cam//talks.cam.ac.uk//
X-WR-CALNAME:Talks.cam
BEGIN:VEVENT
SUMMARY:Search for New Antibacterials Using Diversity-Oriented Synthesis -
  Dr David Spring (University of Cambridge)
DTSTART:20081103T170000Z
DTEND:20081103T180000Z
UID:TALK14857@talks.cam.ac.uk
CONTACT:Duncan Simpson
DESCRIPTION:Abstract not available
LOCATION:Wolfson Lecture Theatre\,  Department of Chemistry
END:VEVENT
END:VCALENDAR
