BEGIN:VCALENDAR
VERSION:2.0
PRODID:-//Talks.cam//talks.cam.ac.uk//
X-WR-CALNAME:Talks.cam
BEGIN:VEVENT
SUMMARY:Epoxide-Opening Cascades - Professor Tim Jamison (Massachusetts In
 stitute of Technology\, USA)
DTSTART:20081117T170000Z
DTEND:20081117T180000Z
UID:TALK14859@talks.cam.ac.uk
CONTACT:Duncan Simpson
DESCRIPTION:Abstract not available
LOCATION:Wolfson Lecture Theatre\,  Department of Chemistry
END:VEVENT
END:VCALENDAR
