BEGIN:VCALENDAR
VERSION:2.0
PRODID:-//Talks.cam//talks.cam.ac.uk//
X-WR-CALNAME:Talks.cam
BEGIN:VEVENT
SUMMARY:Finding the Needle in a Haystack and From Bathtubs to Pipes - Dr D
 avid Ager (DSM\, Raleigh-Durham\, USA)
DTSTART:20081215T170000Z
DTEND:20081215T180000Z
UID:TALK14862@talks.cam.ac.uk
CONTACT:Duncan Simpson
DESCRIPTION:Abstract not available
LOCATION:Wolfson Lecture Theatre\,  Department of Chemistry
END:VEVENT
END:VCALENDAR
