BEGIN:VCALENDAR
VERSION:2.0
PRODID:-//Talks.cam//talks.cam.ac.uk//
X-WR-CALNAME:Talks.cam
BEGIN:VEVENT
SUMMARY:TBC - Matteo Iannacone\, San Raffaele Scientific Institute. Hosted
  by Menna Clatworthy.
DTSTART:20200626T120000Z
DTEND:20200626T130000Z
UID:TALK148741@talks.cam.ac.uk
CONTACT:Dr. Maryam Arasteh
DESCRIPTION:Abstract not available
LOCATION:Via Zoom\, for more details go to https://www.immunology.cam.ac.u
 k/
END:VEVENT
END:VCALENDAR
