BEGIN:VCALENDAR
VERSION:2.0
PRODID:-//Talks.cam//talks.cam.ac.uk//
X-WR-CALNAME:Talks.cam
BEGIN:VEVENT
SUMMARY:'Metabolic Index” measurements using the Phasor/FLIM method'  - 
  Michelle Digman\, Department of Biomedical Engineering 3103 Natural Scien
 ces II Irvine\, CA 
DTSTART:20201012T120000Z
DTEND:20201012T130000Z
UID:TALK150436@talks.cam.ac.uk
CONTACT:69271
DESCRIPTION:Abstract not available
LOCATION:Registration via Eventbrite - lecture via Zoom\, link sent an hou
 r before the lecture
END:VEVENT
END:VCALENDAR
