BEGIN:VCALENDAR
VERSION:2.0
PRODID:-//Talks.cam//talks.cam.ac.uk//
X-WR-CALNAME:Talks.cam
BEGIN:VEVENT
SUMMARY:Advanced Hydride Research for Energy Device Application - Prof. Sh
 in-Ichi Orimo (Tohoku University)
DTSTART:20200824T081000Z
DTEND:20200824T084000Z
UID:TALK150442@talks.cam.ac.uk
CONTACT:Joseph Nelson
DESCRIPTION:Abstract not available\n\n*This talk will be held online using
  Zoom. Please "register your email address here":https://forms.gle/9Rpf2Be
 kocwLpmHD9 to receive Zoom links via email.*\n\n*Workshop website*: https:
 //www.mtg.msm.cam.ac.uk/events/msm-aimr-joint-online-workshop-2020
LOCATION:Online - Zoom
END:VEVENT
END:VCALENDAR
