BEGIN:VCALENDAR
VERSION:2.0
PRODID:-//Talks.cam//talks.cam.ac.uk//
X-WR-CALNAME:Talks.cam
BEGIN:VEVENT
SUMMARY:Topological Phenomena beyond Solid-state Systems - Associate Profe
 ssor Tomoki Ozawa (Tohoku University)
DTSTART:20200828T081000Z
DTEND:20200828T084000Z
UID:TALK150532@talks.cam.ac.uk
CONTACT:Joseph Nelson
DESCRIPTION:Abstract not available\n\n*This talk will be held online using
  Zoom. Please "register your email address here":https://forms.gle/9Rpf2Be
 kocwLpmHD9 to receive Zoom links via email.*\n\n*Workshop website*: https:
 //www.mtg.msm.cam.ac.uk/events/msm-aimr-joint-online-workshop-2020
LOCATION:Online - Zoom
END:VEVENT
END:VCALENDAR
