BEGIN:VCALENDAR
VERSION:2.0
PRODID:-//Talks.cam//talks.cam.ac.uk//
X-WR-CALNAME:Talks.cam
BEGIN:VEVENT
SUMMARY:Journal Club: Mixed Membership Stochastic Blockmodels - Oliver Ste
 gle (University of Cambridge)
DTSTART:20081201T110000Z
DTEND:20081201T120000Z
UID:TALK15155@talks.cam.ac.uk
CONTACT:Carl Scheffler
DESCRIPTION:We will be discussing the paper ``Mixed Membership\nStochastic
  Blockmodels''\, which will be presented at this year's NIPS conference. T
 he paper can be found at http://books.nips.cc/papers/files/nips21/NIPS2008
 _0090.pdf\; a longer journal\nversion is at http://www.sailing.cs.cmu.edu/
 pdf/2008/airoldijmlr08.pdf.\n
LOCATION:TCM Seminar Room\, Cavendish Laboratory\, Department of Physics
END:VEVENT
END:VCALENDAR
