BEGIN:VCALENDAR
VERSION:2.0
PRODID:-//Talks.cam//talks.cam.ac.uk//
X-WR-CALNAME:Talks.cam
BEGIN:VEVENT
SUMMARY:"Treatment of caudal mandibular fracture and temporomandibular joi
 nt fracture/luxation\, using a bi-gnathic encircling and retaining device"
 . - Ian Nicholson
DTSTART:20090130T084500Z
DTEND:20090130T100000Z
UID:TALK15179@talks.cam.ac.uk
CONTACT:Denise Leeks
DESCRIPTION:Abstract not available
LOCATION:LT 2
END:VEVENT
END:VCALENDAR
