BEGIN:VCALENDAR
VERSION:2.0
PRODID:-//Talks.cam//talks.cam.ac.uk//
X-WR-CALNAME:Talks.cam
BEGIN:VEVENT
SUMMARY:The Editorial Process Demystified - Andrew Sugden: Science magazin
 e
DTSTART:20081113T130000Z
DTEND:20081113T140000Z
UID:TALK15200@talks.cam.ac.uk
DESCRIPTION:Abstract not available
LOCATION:Alice Fisher Lecture Theatre\, S Block\, Addenbrooke's Site
END:VEVENT
END:VCALENDAR
