BEGIN:VCALENDAR
VERSION:2.0
PRODID:-//Talks.cam//talks.cam.ac.uk//
X-WR-CALNAME:Talks.cam
BEGIN:VEVENT
SUMMARY:The rural imagination: other knowledges as resistance to monocultu
 res of the mind - Marina Velez Vago\, Anglia Ruskin University
DTSTART:20201110T190000Z
DTEND:20201110T200000Z
UID:TALK153199@talks.cam.ac.uk
CONTACT:Miriam Berg
DESCRIPTION:Marina Velez Vago\, Anglia Ruskin University\, will investigat
 e the idea that new values and re-valuing can emerge from working-with loc
 al farmers and shepherds and will look at these through the lens of the wo
 rks produced as well as through conversations\, pastoral walks and interve
 ntions.\nFor more information and to book for this talk please visit www.a
 ru.ac.uk/events. 
LOCATION:Anglia Ruskin University - online
END:VEVENT
END:VCALENDAR
