BEGIN:VCALENDAR
VERSION:2.0
PRODID:-//Talks.cam//talks.cam.ac.uk//
X-WR-CALNAME:Talks.cam
BEGIN:VEVENT
SUMMARY:Quantum Criticality\, the Alpha/Delta Puzzle\, and Dual Vacua - Pr
 of George Chapline\, Lawrence Livermore National Laboratory
DTSTART:20081128T113000Z
DTEND:20081128T123000Z
UID:TALK15438@talks.cam.ac.uk
CONTACT:Dr Jonathan Keeling
DESCRIPTION:Abstract not available
LOCATION:TCM Seminar Room\, Cavendish Laboratory
END:VEVENT
END:VCALENDAR
