BEGIN:VCALENDAR
VERSION:2.0
PRODID:-//Talks.cam//talks.cam.ac.uk//
X-WR-CALNAME:Talks.cam
BEGIN:VEVENT
SUMMARY:Intellectual Property Strategies for Service and Support - Kenneth
  Owens (The Boeing Company)
DTSTART:20081204T100000Z
DTEND:20081204T110000Z
UID:TALK15476@talks.cam.ac.uk
CONTACT:Peter Wild
DESCRIPTION:Service and Support providers rely on their intellectual prope
 rty to be competitive discriminators in securing and retaining business.  
 During this seminar\, participants will discuss the different types of int
 ellectual property and the criteria for selecting intellectual property ta
 ctics.  Intellectual property strategy considerations will also be introdu
 ced.
LOCATION:Seminar A\, Institute for Manufacturing\, 16 Mill Lane\, Cambridg
 e
END:VEVENT
END:VCALENDAR
