BEGIN:VCALENDAR
VERSION:2.0
PRODID:-//Talks.cam//talks.cam.ac.uk//
X-WR-CALNAME:Talks.cam
BEGIN:VEVENT
SUMMARY:Neurobiology of the Drosophila circadian clock - Justin Blau\, Dep
 artment of Biology\, New York University
DTSTART:20081215T141500Z
DTEND:20081215T151500Z
UID:TALK15478@talks.cam.ac.uk
CONTACT:11952
DESCRIPTION:See http://biology.as.nyu.edu/object/JustinBlau.html for detai
 ls\n
LOCATION:MRC LMB: Neurobiology Division Seminar Room (Level 2)
END:VEVENT
END:VCALENDAR
