BEGIN:VCALENDAR
VERSION:2.0
PRODID:-//Talks.cam//talks.cam.ac.uk//
X-WR-CALNAME:Talks.cam
BEGIN:VEVENT
SUMMARY:Building a Collaborative Network to target Neurodegeneration using
  Fragment Based Drug Design - Elena di Daniel\, Astex Therapeutics
DTSTART:20210225T130000Z
DTEND:20210225T140000Z
UID:TALK154807@talks.cam.ac.uk
CONTACT:Alison Schuldt
DESCRIPTION:Abstract not available
LOCATION:Online
END:VEVENT
END:VCALENDAR
