BEGIN:VCALENDAR
VERSION:2.0
PRODID:-//Talks.cam//talks.cam.ac.uk//
X-WR-CALNAME:Talks.cam
BEGIN:VEVENT
SUMMARY:From Antarctica to East Anglia: interpreting environmental signals
  in mosses - Dr Jessica Royles\, Griffiths group
DTSTART:20210128T130000Z
DTEND:20210128T140000Z
UID:TALK154885@talks.cam.ac.uk
CONTACT:85030
DESCRIPTION:Deep moss banks that have been slowly accumulating over thousa
 nds of years provide rare records of biological activity on the Antarctic 
 Peninsula. I will show how we can interpret these palaeoclimate archives t
 o quantify responses to recent rapid climate changes and place them in the
  context of Holocene fluctuations. Detailed physiological work on contempo
 rary\, East Anglian mosses of contrasting life forms facilitates interpret
 ation of the Antarctic records\, and also provides a link to the Sphagnum 
 dominated northern peatlands.\n\n\nContact reception@plantsci.cam.ac.uk fo
 r a Zoom link prior to a talk if you are not on our mailing list. Due to h
 aving to go onine\, we are restricting the talks to University of Cambridg
 e and alumni to keep them as informal as possible.
LOCATION:Online
END:VEVENT
END:VCALENDAR
