BEGIN:VCALENDAR
VERSION:2.0
PRODID:-//Talks.cam//talks.cam.ac.uk//
X-WR-CALNAME:Talks.cam
BEGIN:VEVENT
SUMMARY:Sustainable Energy - without hot air - David MacKay (Cavendish Lab
 oratory)
DTSTART:20081215T120000Z
DTEND:20081215T130000Z
UID:TALK15514@talks.cam.ac.uk
CONTACT:Katarina McCartney
DESCRIPTION:We have an addiction to fossil fuels\, and it's not sustainabl
 e. To have a meaningful discussion of sustainable energy\, \nwe need clear
 \, simple numbers\, so that we can\nunderstand just how big the challenge 
 is\, and avoid being conned by greenwash and grand-sounding schemes that d
 on't actually work. This talk will dispel some myths\, will challenge pre-
 conceptions\, and will focus attention on actions that really make a diffe
 rence.\n\nDavid MacKay is a Professor in Physics at the University of Camb
 ridge. He has just published a book on sustainable energy.\n
LOCATION:William Harvey Lecture Theatre\, School of Clinical Medicine\, Ad
 denbrooke's Hospital\, Cambridge
END:VEVENT
END:VCALENDAR
