BEGIN:VCALENDAR
VERSION:2.0
PRODID:-//Talks.cam//talks.cam.ac.uk//
X-WR-CALNAME:Talks.cam
BEGIN:VEVENT
SUMMARY:Pictures of data: methods for improving scientific illustrations -
  Matt Davis (MRC CBSU)
DTSTART:20090302T161500Z
DTEND:20090302T174500Z
UID:TALK15540@talks.cam.ac.uk
CONTACT:Mandy Carter
DESCRIPTION:Abstract not available
LOCATION:Lecture Theatre\, Medical Research Council (MRC) Cognition and Br
 ain Sciences
END:VEVENT
END:VCALENDAR
