BEGIN:VCALENDAR
VERSION:2.0
PRODID:-//Talks.cam//talks.cam.ac.uk//
X-WR-CALNAME:Talks.cam
BEGIN:VEVENT
SUMMARY:Optiver: From Instant to Eternity: Challenges in Data Engineering 
 - Zuotian Tatum - Optiver Engineer
DTSTART:20210125T130500Z
DTEND:20210125T135500Z
UID:TALK155455@talks.cam.ac.uk
CONTACT:Ben Karniely
DESCRIPTION:As a leading market maker\, Optiver operates globally in a hig
 hly competitive and rapidly changing environment. Our infrastructure is a 
 combination of vastly distributed systems\, high-performance\ncomputing on
  one hand\; and high-throughput dataflows\, huge storage\, and data analys
 is on the other.\n\nZuotian gives an overview of the data engineering invo
 lved in capturing network data with nanosecond precision timestamps\, wher
 e we dive below nanoseconds to answer crucial business questions\, and the
  challenges of running such a system in real-time.
LOCATION:Online
END:VEVENT
END:VCALENDAR
