BEGIN:VCALENDAR
VERSION:2.0
PRODID:-//Talks.cam//talks.cam.ac.uk//
X-WR-CALNAME:Talks.cam
BEGIN:VEVENT
SUMMARY:The Vagrancy of Economic Invisibility - Francesca Trivellato (IAS\
 , Princeton)
DTSTART:20210217T170000Z
DTEND:20210217T180000Z
UID:TALK155491@talks.cam.ac.uk
CONTACT:Dr AM Price
DESCRIPTION:The promises of the vulgate of the invisible hand have failed 
 Main Street. In this presentation\, I will return to some of my recently p
 ublished work to think more broadly about the benefits and the fears elici
 ted by the paper economy in pre-Adam Smith Europe\, when new and newly acc
 essible credit instruments rendered financial transactions materially invi
 sible and inscrutable to most.\n\nRELATED ARTICLE: "The Rumour about the J
 ews":https://aeon.co/essays/what-is-the-link-between-medieval-and-modern-a
 ntisemitism
LOCATION: Via Zoom
END:VEVENT
END:VCALENDAR
