BEGIN:VCALENDAR
VERSION:2.0
PRODID:-//Talks.cam//talks.cam.ac.uk//
X-WR-CALNAME:Talks.cam
BEGIN:VEVENT
SUMMARY:CDM 2007 Effective CDM co-ordination - Thomas Telford Training
DTSTART:20090428T173000Z
DTEND:20090428T190000Z
UID:TALK15685@talks.cam.ac.uk
CONTACT:4671
DESCRIPTION:Abstract not available
LOCATION: Trinity Centre\, 24 Milton Road\, Science Park\, Cambridge
END:VEVENT
END:VCALENDAR
