BEGIN:VCALENDAR
VERSION:2.0
PRODID:-//Talks.cam//talks.cam.ac.uk//
X-WR-CALNAME:Talks.cam
BEGIN:VEVENT
SUMMARY:ICE professional review: mastering the written assignment - Thomas
  Telford Training
DTSTART:20090624T173000Z
DTEND:20090624T190000Z
UID:TALK15691@talks.cam.ac.uk
CONTACT:12135
DESCRIPTION:Abstract not available
LOCATION: Trinity Centre\, 24 Milton Road\, Science Park\, Cambridge
END:VEVENT
END:VCALENDAR
