BEGIN:VCALENDAR
VERSION:2.0
PRODID:-//Talks.cam//talks.cam.ac.uk//
X-WR-CALNAME:Talks.cam
BEGIN:VEVENT
SUMMARY:A Bayesian Approach to Testing for Uniformity - Dr Devinder Sivia 
 (University of Oxford)
DTSTART:20090113T163000Z
DTEND:20090113T173000Z
UID:TALK15882@talks.cam.ac.uk
CONTACT:Jane Buckle
DESCRIPTION:Abstract not available
LOCATION:Ryle Seminar Room\, Cavendish Laboratory
END:VEVENT
END:VCALENDAR
