BEGIN:VCALENDAR
VERSION:2.0
PRODID:-//Talks.cam//talks.cam.ac.uk//
X-WR-CALNAME:Talks.cam
BEGIN:VEVENT
SUMMARY:Results of the IoA’s Annual EDI\, Wellbeing & Culture Survey 202
 0 - Clare Worley & Mark Wyatt
DTSTART:20210616T130000Z
DTEND:20210616T133000Z
UID:TALK159004@talks.cam.ac.uk
CONTACT:Emma Curtis Lake
DESCRIPTION:Abstract not available
LOCATION: Webinar  (via Zoom online)
END:VEVENT
END:VCALENDAR
