BEGIN:VCALENDAR
VERSION:2.0
PRODID:-//Talks.cam//talks.cam.ac.uk//
X-WR-CALNAME:Talks.cam
BEGIN:VEVENT
SUMMARY:Recarving the cognitive joints of nature - Mike Wheeler (Universit
 y of Stirling)
DTSTART:20090204T170000Z
DTEND:20090204T183000Z
UID:TALK15945@talks.cam.ac.uk
CONTACT:Mark Sprevak
DESCRIPTION:Abstract not available
LOCATION:Seminar Room 2\, History and Philosophy of Science\, Department o
 f
END:VEVENT
END:VCALENDAR
