BEGIN:VCALENDAR
VERSION:2.0
PRODID:-//Talks.cam//talks.cam.ac.uk//
X-WR-CALNAME:Talks.cam
BEGIN:VEVENT
SUMMARY:test talk - Alastair Downie Gurdon Institute
DTSTART:20210427T121500Z
DTEND:20210427T125500Z
UID:TALK159979@talks.cam.ac.uk
CONTACT:Al Downie
DESCRIPTION:test talk
LOCATION:Webinar via Zoom - Please subscribe to mailing list for link
END:VEVENT
END:VCALENDAR
