BEGIN:VCALENDAR
VERSION:2.0
PRODID:-//Talks.cam//talks.cam.ac.uk//
X-WR-CALNAME:Talks.cam
BEGIN:VEVENT
SUMMARY:Mechanisms of protein transport in eukaryotic cells - Dr Jerome Ca
 ttin
DTSTART:20210506T121000Z
DTEND:20210506T130000Z
UID:TALK160255@talks.cam.ac.uk
CONTACT:Janet Gibson
DESCRIPTION:Abstract not available
LOCATION:ONLINE - Email organiser to request link - Details to be sent by 
 email
END:VEVENT
END:VCALENDAR
