BEGIN:VCALENDAR
VERSION:2.0
PRODID:-//Talks.cam//talks.cam.ac.uk//
X-WR-CALNAME:Talks.cam
BEGIN:VEVENT
SUMMARY:David Ward - Michael Harrison
DTSTART:20090326T131000Z
DTEND:20090326T134000Z
UID:TALK16030@talks.cam.ac.uk
CONTACT:Fay Blanchard
DESCRIPTION:Abstract not available
LOCATION:Kettle's Yard
END:VEVENT
END:VCALENDAR
