BEGIN:VCALENDAR
VERSION:2.0
PRODID:-//Talks.cam//talks.cam.ac.uk//
X-WR-CALNAME:Talks.cam
BEGIN:VEVENT
SUMMARY:Imperial Slippages: Encountering and Knowing Ice in and beyond Col
 onial India - Tom Simpson (Gonville and Caius College\, Cambridge)
DTSTART:20210513T160000Z
DTEND:20210513T173000Z
UID:TALK160522@talks.cam.ac.uk
CONTACT:Dr. P MR Howell
DESCRIPTION:Abstract not available
LOCATION:Online (Zoom)
END:VEVENT
END:VCALENDAR
