BEGIN:VCALENDAR
VERSION:2.0
PRODID:-//Talks.cam//talks.cam.ac.uk//
X-WR-CALNAME:Talks.cam
BEGIN:VEVENT
SUMMARY:LMB Seminar: The biomass distribution on Earth - Ron Milo\, Profes
 sor\, Department of Plant and Environmental Sciences\, Weizmann Institute 
 of Science\, Israel
DTSTART:20210706T100000Z
DTEND:20210706T110000Z
UID:TALK161077@talks.cam.ac.uk
CONTACT:Scientific Meetings Co-ordinator
DESCRIPTION:A census of the biomass on Earth is key for understanding the 
 structure and dynamics of the biosphere. Yet\, a quantitative\, global vie
 w of how the biomass of different taxa compare with each other is still la
 cking. In this lecture\, I present how we harness recent advances in globa
 l sampling techniques to assemble the overall biomass composition of the b
 iosphere\, establishing the first census of the biomass of all the kingdom
 s of life. 
LOCATION:Webinar -  https://zoom.us/j/93763520674?pwd=WTlDZThITTFUaEpKL2xM
 Z1YzZWVkZz09
END:VEVENT
END:VCALENDAR
