BEGIN:VCALENDAR
VERSION:2.0
PRODID:-//Talks.cam//talks.cam.ac.uk//
X-WR-CALNAME:Talks.cam
BEGIN:VEVENT
SUMMARY:“Truncated tau as a model of human tauopathy” - Professor Dian
 e Hanger\, King's College London
DTSTART:20210624T110000Z
DTEND:20210624T120000Z
UID:TALK161119@talks.cam.ac.uk
CONTACT:Louise Massara
DESCRIPTION:Join Zoom Meeting\nhttps://us02web.zoom.us/j/89512168861?pwd=a
 zJRc3U2VEk4UXRITzJvb0JNV0wxQT09\n\nMeeting ID: 895 1216 8861\nPasscode: 61
 9884\n
LOCATION:Zoom (link will be given in Abstract)
END:VEVENT
END:VCALENDAR
