BEGIN:VCALENDAR
VERSION:2.0
PRODID:-//Talks.cam//talks.cam.ac.uk//
X-WR-CALNAME:Talks.cam
BEGIN:VEVENT
SUMMARY:The informality of rule: managing Elizabethan Government - Norman 
 Jones
DTSTART:20090204T170000Z
DTEND:20090204T183000Z
UID:TALK16164@talks.cam.ac.uk
CONTACT:Richard Serjeantson
DESCRIPTION:Abstract not available
LOCATION:Graham Storey Room\, Trinity Hall
END:VEVENT
END:VCALENDAR
