BEGIN:VCALENDAR
VERSION:2.0
PRODID:-//Talks.cam//talks.cam.ac.uk//
X-WR-CALNAME:Talks.cam
BEGIN:VEVENT
SUMMARY:Tea Club Seminar - Sara Lopez Gomolion "sRNAs and genomic shock" -
  Sara Lopez Gomolion
DTSTART:20211102T123000Z
DTEND:20211102T140000Z
UID:TALK161653@talks.cam.ac.uk
CONTACT:Mark Carrington
DESCRIPTION:Abstract not available
LOCATION:Biochemistry Zoom
END:VEVENT
END:VCALENDAR
