BEGIN:VCALENDAR
VERSION:2.0
PRODID:-//Talks.cam//talks.cam.ac.uk//
X-WR-CALNAME:Talks.cam
BEGIN:VEVENT
SUMMARY:Tea Club Seminar - Jochen Zimmer "Diverse mechanisms of hyaluronan
  biosynthesis in different kingdoms of life" - Jochen Zimmer
DTSTART:20211109T130000Z
DTEND:20211109T143000Z
UID:TALK161656@talks.cam.ac.uk
CONTACT:Paul Dupree
DESCRIPTION:Abstract not available
LOCATION:Biochemistry Zoom
END:VEVENT
END:VCALENDAR
