BEGIN:VCALENDAR
VERSION:2.0
PRODID:-//Talks.cam//talks.cam.ac.uk//
X-WR-CALNAME:Talks.cam
BEGIN:VEVENT
SUMMARY:Identification of regulators and targets of circadian calcium sign
 alling - Dr Fiona Robertson\, Department of Plant Sciences
DTSTART:20090306T130000Z
DTEND:20090306T133000Z
UID:TALK16246@talks.cam.ac.uk
CONTACT:Dr Mathew G. Lewsey
DESCRIPTION:Abstract not available
LOCATION:Department of Plant Sciences\, Large Lecture Theatre
END:VEVENT
END:VCALENDAR
